BEGIN:VCALENDAR
VERSION:2.0
PRODID:-//Madison Rivergate Area Chamber of Commerce. - ECPv6.15.20//NONSGML v1.0//EN
CALSCALE:GREGORIAN
METHOD:PUBLISH
X-ORIGINAL-URL:https://www.madisonrivergatechamber.com
X-WR-CALDESC:Events for Madison Rivergate Area Chamber of Commerce.
REFRESH-INTERVAL;VALUE=DURATION:PT1H
X-Robots-Tag:noindex
X-PUBLISHED-TTL:PT1H
BEGIN:VTIMEZONE
TZID:America/Chicago
BEGIN:DAYLIGHT
TZOFFSETFROM:-0600
TZOFFSETTO:-0500
TZNAME:CDT
DTSTART:20250309T080000
END:DAYLIGHT
BEGIN:STANDARD
TZOFFSETFROM:-0500
TZOFFSETTO:-0600
TZNAME:CST
DTSTART:20251102T070000
END:STANDARD
BEGIN:DAYLIGHT
TZOFFSETFROM:-0600
TZOFFSETTO:-0500
TZNAME:CDT
DTSTART:20260308T080000
END:DAYLIGHT
BEGIN:STANDARD
TZOFFSETFROM:-0500
TZOFFSETTO:-0600
TZNAME:CST
DTSTART:20261101T070000
END:STANDARD
BEGIN:DAYLIGHT
TZOFFSETFROM:-0600
TZOFFSETTO:-0500
TZNAME:CDT
DTSTART:20270314T080000
END:DAYLIGHT
BEGIN:STANDARD
TZOFFSETFROM:-0500
TZOFFSETTO:-0600
TZNAME:CST
DTSTART:20271107T070000
END:STANDARD
END:VTIMEZONE
BEGIN:VEVENT
DTSTART;TZID=America/Chicago:20260420T080000
DTEND;TZID=America/Chicago:20260420T170000
DTSTAMP:20260421T150937
CREATED:20260420T223312Z
LAST-MODIFIED:20260420T223312Z
UID:19618-1776672000-1776704400@www.madisonrivergatechamber.com
SUMMARY:Fashion for Good: Runway for Restoration
DESCRIPTION:An unforgettable evening at Historic Amqui Station supporting women as they rebuild their lives through dignity\, opportunity\, and community. Featuring Fashion Designer\, Laura Citron.
URL:https://www.madisonrivergatechamber.com/event/fashion-for-good-runway-for-restoration/
LOCATION:Amqui Station & Visitors Center\, 303 Madison Station Blvd\, Madison\, TN\, 37115\, United States
CATEGORIES:Charity,Community,Entertainment
ATTACH;FMTTYPE=image/png:https://www.madisonrivergatechamber.com/wp-content/uploads/2026/04/Fashion-for-good-event.png
END:VEVENT
BEGIN:VEVENT
DTSTART;TZID=America/Chicago:20260421T170000
DTEND;TZID=America/Chicago:20260421T190000
DTSTAMP:20260421T150937
CREATED:20260420T222546Z
LAST-MODIFIED:20260420T222546Z
UID:19613-1776790800-1776798000@www.madisonrivergatechamber.com
SUMMARY:Walk to the Polls with Michael Robinson
DESCRIPTION:The Robinson family invites you to a Family Friendly BBQ and early vote for Michael at the Madison Library.
URL:https://www.madisonrivergatechamber.com/event/walk-to-the-polls-with-michael-robinson/
LOCATION:Amqui Station & Visitors Center\, 303 Madison Station Blvd\, Madison\, TN\, 37115\, United States
CATEGORIES:Community,Politics
ATTACH;FMTTYPE=image/jpeg:https://www.madisonrivergatechamber.com/wp-content/uploads/2026/04/Walk-to-the-polls-header-2026-scaled.jpg
END:VEVENT
BEGIN:VEVENT
DTSTART;TZID=America/Chicago:20260507T050000
DTEND;TZID=America/Chicago:20260507T090000
DTSTAMP:20260421T150937
CREATED:20260420T214852Z
LAST-MODIFIED:20260420T214852Z
UID:19607-1778130000-1778144400@www.madisonrivergatechamber.com
SUMMARY:Teacher Appreciation at Whataburger
DESCRIPTION:Whataburger is getting ready to celebrate the incredible impact of our local educators during National Teacher Appreciation Week! \nFirst\, we’re inviting all teachers and school staff to join us for a FREE hot breakfast on Thursday\, May 7\, from 5–9 a.m. Just stop by any participating location with a valid school ID and grab a Breakfast on a Bun\, Honey Butter Chicken Biscuit\, or Taquito (available for dine-in\, takeout\, or drive-thru). \nBut we want to do more than just breakfast. \nThrough our Feeding Student Success program\, Whataburger is awarding sixty $1\,000 classroom grants across the country. Right here in our communities\, we’ll be recognizing several exceptional educators with these $1\,000 grants and some exclusive ‘WhataTeacher’ gear. \nThis is where we need your help. We’re looking for nominations for inspiring teachers who are making a real difference in their classrooms or districts. If you know a “WhataTeacher” who deserves this recognition\, please submit your nomination by Wednesday\, April 24 using the link below. We plan to celebrate each winner in person at their school! \n2026 WhataTeacher Nomination Vote Here!“
URL:https://www.madisonrivergatechamber.com/event/teacher-appreciation-at-whataburger/
LOCATION:Madison Whataburger\, 1715 Gallatin Pike\, Madison\, TN\, 37115
CATEGORIES:Breakfast,Community
ATTACH;FMTTYPE=image/png:https://www.madisonrivergatechamber.com/wp-content/uploads/2026/04/Teacher-Whataburger.png
END:VEVENT
END:VCALENDAR